BEGIN:VCALENDAR
VERSION:2.0
PRODID:-//TC CAP ON LINE - ECPv4.9.3.1//NONSGML v1.0//EN
CALSCALE:GREGORIAN
METHOD:PUBLISH
X-WR-CALNAME:TC CAP ON LINE
X-ORIGINAL-URL:http://tccaponline.lu
X-WR-CALDESC:Évènements pour TC CAP ON LINE
BEGIN:VEVENT
DTSTART;TZID=UTC+1:20171202T150000
DTEND;TZID=UTC+1:20171202T190000
DTSTAMP:20200122T141719
CREATED:20171124T185053Z
LAST-MODIFIED:20171125T174006Z
UID:1855-1512226800-1512241200@tccaponline.lu
SUMMARY:15 h Quart de finale Coupe FLT Hommes : Cap on Line - Spora
DESCRIPTION:
URL:http://tccaponline.lu/evenement/15-h-%c2%bc-de-finale-coupe-flt-hommes-cap-on-line-spora/
END:VEVENT
END:VCALENDAR