BEGIN:VCALENDAR
VERSION:2.0
PRODID:-//TC CAP ON LINE - ECPv4.9.3.1//NONSGML v1.0//EN
CALSCALE:GREGORIAN
METHOD:PUBLISH
X-WR-CALNAME:TC CAP ON LINE
X-ORIGINAL-URL:http://tccaponline.lu
X-WR-CALDESC:Évènements pour TC CAP ON LINE
BEGIN:VEVENT
DTSTART;TZID=UTC+1:20161113T140000
DTEND;TZID=UTC+1:20161113T180000
DTSTAMP:20200122T141638
CREATED:20161110T102155Z
LAST-MODIFIED:20161110T102155Z
UID:1652-1479045600-1479060000@tccaponline.lu
SUMMARY:Coupe FLT jeunes garçons
DESCRIPTION:Notre équipe jeunes garçons jouera son premier tour de Coupe FLT  dimanche 13 novembre 2016 à 14h00 au TC Senningerberg. \n
URL:http://tccaponline.lu/evenement/coupe-flt-jeunes-garcons/
LOCATION:Senningerberg\, Luxembourg
END:VEVENT
END:VCALENDAR