BEGIN:VCALENDAR
VERSION:2.0
PRODID:-//TC CAP ON LINE - ECPv4.9.3.1//NONSGML v1.0//EN
CALSCALE:GREGORIAN
METHOD:PUBLISH
X-WR-CALNAME:TC CAP ON LINE
X-ORIGINAL-URL:http://tccaponline.lu
X-WR-CALDESC:Évènements pour TC CAP ON LINE
BEGIN:VEVENT
DTSTART;VALUE=DATE:20190916
DTEND;VALUE=DATE:20190929
DTSTAMP:20200122T141601
CREATED:20181115T112950Z
LAST-MODIFIED:20181115T112950Z
UID:2226-1568592000-1569715199@tccaponline.lu
SUMMARY:Cours
DESCRIPTION:
URL:http://tccaponline.lu/evenement/cours-10/
END:VEVENT
END:VCALENDAR