BEGIN:VCALENDAR
VERSION:2.0
PRODID:-//TC CAP ON LINE - ECPv4.9.3.1//NONSGML v1.0//EN
CALSCALE:GREGORIAN
METHOD:PUBLISH
X-WR-CALNAME:TC CAP ON LINE
X-ORIGINAL-URL:http://tccaponline.lu
X-WR-CALDESC:Évènements pour TC CAP ON LINE
BEGIN:VEVENT
DTSTART;VALUE=DATE:20190715
DTEND;VALUE=DATE:20190916
DTSTAMP:20200122T141105
CREATED:20180929T172226Z
LAST-MODIFIED:20180929T173038Z
UID:2176-1563148800-1568591999@tccaponline.lu
SUMMARY:Vacances d'été
DESCRIPTION:
URL:http://tccaponline.lu/evenement/grandes-vacances/
END:VEVENT
END:VCALENDAR