BEGIN:VCALENDAR
VERSION:2.0
PRODID:-//TC CAP ON LINE - ECPv4.9.3.1//NONSGML v1.0//EN
CALSCALE:GREGORIAN
METHOD:PUBLISH
X-WR-CALNAME:TC CAP ON LINE
X-ORIGINAL-URL:http://tccaponline.lu
X-WR-CALDESC:Évènements pour TC CAP ON LINE
BEGIN:VEVENT
DTSTART;VALUE=DATE:20190930
DTEND;VALUE=DATE:20191001
DTSTAMP:20200122T141621
CREATED:20181115T113102Z
LAST-MODIFIED:20190111T170135Z
UID:2230-1569801600-1569887999@tccaponline.lu
SUMMARY:Premiers cours de la saison 2019-20
DESCRIPTION:
URL:http://tccaponline.lu/evenement/premier-cours-de-la-saison-2019-20/
END:VEVENT
END:VCALENDAR