BEGIN:VCALENDAR
VERSION:2.0
PRODID:-//TC CAP ON LINE - ECPv4.9.3.1//NONSGML v1.0//EN
CALSCALE:GREGORIAN
METHOD:PUBLISH
X-WR-CALNAME:TC CAP ON LINE
X-ORIGINAL-URL:http://tccaponline.lu
X-WR-CALDESC:Évènements pour TC CAP ON LINE
BEGIN:VEVENT
DTSTART;VALUE=DATE:20190715
DTEND;VALUE=DATE:20190720
DTSTAMP:20200122T141113
CREATED:20180929T173254Z
LAST-MODIFIED:20180929T173254Z
UID:2197-1563148800-1563580799@tccaponline.lu
SUMMARY:Stage compétition
DESCRIPTION:
URL:http://tccaponline.lu/evenement/stage-competition/
END:VEVENT
END:VCALENDAR